BEGIN:VCALENDAR
VERSION:2.0
PRODID:-//ChamberMaster//Event Calendar 2.0//EN
METHOD:PUBLISH
X-PUBLISHED-TTL:P3D
REFRESH-INTERVAL:P3D
CALSCALE:GREGORIAN
BEGIN:VEVENT
DTSTART;VALUE=DATE:20230605
DTEND;VALUE=DATE:20230606
TRANSP:TRANSPARENT
X-MICROSOFT-CDO-ALLDAYEVENT:TRUE
SUMMARY:Rocky's Music Camp
DESCRIPTION:ROCKY'S MUSIC CAMP | ages 9-12 years\n\nCost: $125\n\nDates Offered: \n\nWeek 1: June 5-9 (M-F)\; 9 AM - 12PM\n\nWeek 2: June 12-16 (M-F)\; 9 AM - 12PM\n\nRocky's Music Camp offers students a week of singing\, instrument play\, music games\, and camp camaraderie. All students will have the opportunity to discover their musical potential. Activities will include:\n\n     - drum circle\n\n     - choir singing\n\n     - introduction to ukulele and/or piano\n\n     - musicianship classes\n\n     - mid-morning snack each day\n\n     - culminating Rocky's Music Showcase on Friday\n\nRegister by May 1 to receive the Early Registration Scholarship - an automatic 20% off!
X-ALT-DESC;FMTTYPE=text/html:ROCKY&rsquo\;S MUSIC CAMP | ages 9-12 years<br />\nCost: $125<br />\nDates Offered:&nbsp\;<br />\nWeek 1: June 5-9 (M-F)\; 9 AM - 12PM<br />\nWeek 2: June 12-16 (M-F)\; 9 AM - 12PM<br />\nRocky&rsquo\;s Music Camp offers students a week of singing\, instrument play\, music games\, and camp camaraderie. All students will have the opportunity to discover their musical potential. Activities will include:<br />\n&nbsp\; &nbsp\; &nbsp\;- drum circle<br />\n&nbsp\; &nbsp\; &nbsp\;- choir singing<br />\n&nbsp\; &nbsp\; &nbsp\;- introduction to ukulele and/or piano<br />\n&nbsp\; &nbsp\; &nbsp\;- musicianship classes<br />\n&nbsp\; &nbsp\; &nbsp\;- mid-morning snack each day<br />\n&nbsp\; &nbsp\; &nbsp\;- culminating Rocky&rsquo\;s Music Showcase on Friday<br />\nRegister by May 1 to receive the Early Registration Scholarship - an automatic 20% off!
LOCATION:Western Illinois University - Macomb Campus
UID:e.2125.12777
SEQUENCE:3
DTSTAMP:20260423T192413Z
URL:https://business.macombareachamber.com/events/details/rocky-s-music-camp-12777
END:VEVENT

END:VCALENDAR
