BEGIN:VCALENDAR
VERSION:2.0
PRODID:-//ChamberMaster//Event Calendar 2.0//EN
METHOD:PUBLISH
X-PUBLISHED-TTL:P3D
REFRESH-INTERVAL:P3D
CALSCALE:GREGORIAN
BEGIN:VEVENT
DTSTART:20220911T170000Z
DTEND:20220911T200000Z
X-MICROSOFT-CDO-ALLDAYEVENT:FALSE
SUMMARY:Rock Painted Portraits
DESCRIPTION:Celebrate Grandparents! Come create a rock painted portrait. \n\nAll grandparents get half priced admission when with their grandchildren. Not valid for online purchase.
X-ALT-DESC;FMTTYPE=text/html:Celebrate Grandparents! Come create a rock painted portrait.&nbsp\;<br />\nAll grandparents get half priced admission when with their grandchildren. Not valid for online purchase.
LOCATION:Discovery Depot Children's Museum 128 S Chambers St Galesburg\, IL\, 61401
UID:e.2125.9990
SEQUENCE:3
DTSTAMP:20260423T085009Z
URL:https://business.macombareachamber.com/events/details/rock-painted-portraits-9990
END:VEVENT

END:VCALENDAR
