BEGIN:VCALENDAR
VERSION:2.0
PRODID:-//ChamberMaster//Event Calendar 2.0//EN
METHOD:PUBLISH
X-PUBLISHED-TTL:P3D
REFRESH-INTERVAL:P3D
CALSCALE:GREGORIAN
BEGIN:VEVENT
DTSTART:20230917T170000Z
DTEND:20230917T200000Z
X-MICROSOFT-CDO-ALLDAYEVENT:FALSE
SUMMARY:RIF Day
DESCRIPTION:Free Book for \n\nEvery Child with \n\nRegular Admission
X-ALT-DESC;FMTTYPE=text/html:<p><strong>Free Book for</strong><strong> </strong></p>\n\n<p><strong>Every Child with</strong><strong> </strong></p>\n\n<p><strong>Regular Admission</strong></p>\n
LOCATION:
UID:e.2125.13706
SEQUENCE:3
DTSTAMP:20260422T135204Z
URL:https://business.macombareachamber.com/events/details/rif-day-09-17-2023-13706
END:VEVENT

END:VCALENDAR
