BEGIN:VCALENDAR
VERSION:2.0
PRODID:-//ChamberMaster//Event Calendar 2.0//EN
METHOD:PUBLISH
X-PUBLISHED-TTL:P3D
REFRESH-INTERVAL:P3D
CALSCALE:GREGORIAN
BEGIN:VEVENT
DTSTART:20220717T170000Z
DTEND:20220717T200000Z
X-MICROSOFT-CDO-ALLDAYEVENT:FALSE
SUMMARY:RIF Day
DESCRIPTION:Free book for every child with admission!
X-ALT-DESC;FMTTYPE=text/html:Free book for every child with admission!
LOCATION:Discovery Depot Children's Museum 128 S Chambers St Galesburg\, IL\, 61401
UID:e.2125.9883
SEQUENCE:3
DTSTAMP:20260422T134226Z
URL:https://business.macombareachamber.com/events/details/rif-day-07-17-2022-9883
END:VEVENT

END:VCALENDAR
