BEGIN:VCALENDAR
VERSION:2.0
PRODID:-//ChamberMaster//Event Calendar 2.0//EN
METHOD:PUBLISH
X-PUBLISHED-TTL:P3D
REFRESH-INTERVAL:P3D
CALSCALE:GREGORIAN
BEGIN:VEVENT
DTSTART:20230927T163000Z
DTEND:20230927T173000Z
X-MICROSOFT-CDO-ALLDAYEVENT:FALSE
SUMMARY:Ribbon Cutting/Open House for Land of Lincoln Credit Union
DESCRIPTION:Join the Macomb Area Chamber of Commerce Ambassadors as we welcome Land of Lincoln Credit Union as a new Chamber member. Ribbon cutting will take place at 11:30 am\, followed by an open house to invite you to view the newest LLCU branch in Colchester. Join in for prizes\, networking\, and delicious hors d'oeuvres provided by The Old Dairy.
X-ALT-DESC;FMTTYPE=text/html:Join the Macomb Area Chamber of Commerce Ambassadors as we welcome Land of Lincoln Credit Union as a new Chamber member. Ribbon cutting will take place at 11:30 am\, followed by an open house to invite you to view the newest LLCU branch in Colchester. Join in for prizes\, networking\, and delicious hors d&#39\;oeuvres provided by The Old Dairy.&nbsp\;
LOCATION:113 East Depot Street Colchester\, Illinois
UID:e.2125.13794
SEQUENCE:3
DTSTAMP:20260422T135508Z
URL:https://business.macombareachamber.com/events/details/ribbon-cutting-open-house-for-land-of-lincoln-credit-union-13794
END:VEVENT

END:VCALENDAR
