BEGIN:VCALENDAR
VERSION:2.0
PRODID:-//ChamberMaster//Event Calendar 2.0//EN
METHOD:PUBLISH
X-PUBLISHED-TTL:P3D
REFRESH-INTERVAL:P3D
CALSCALE:GREGORIAN
BEGIN:VEVENT
DTSTART:20250417T163000Z
DTEND:20250417T170000Z
X-MICROSOFT-CDO-ALLDAYEVENT:FALSE
SUMMARY:Ribbon Cutting: McDonough County Health Dept.
DESCRIPTION:The Ambassador Committee of the Macomb Area Chamber of Commerce will hold a ribbon cutting to help the McDonough County Health Department celebrate their 50th anniversary. The McDonough County Health Department provides essential public health services to promote a safe and healthy region
X-ALT-DESC;FMTTYPE=text/html:The Ambassador Committee of the Macomb Area Chamber of Commerce will hold a ribbon cutting to help the McDonough County Health Department celebrate their 50th anniversary. The McDonough County Health Department provides essential public health services to promote a safe and healthy region
LOCATION:McDonough County Health Department 505 East Jackson Street Macomb\, IL
UID:e.2125.18776
SEQUENCE:3
DTSTAMP:20260420T113823Z
URL:https://business.macombareachamber.com/events/details/ribbon-cutting-mcdonough-county-health-dept-18776
END:VEVENT

END:VCALENDAR
