BEGIN:VCALENDAR
VERSION:2.0
PRODID:-//ChamberMaster//Event Calendar 2.0//EN
METHOD:PUBLISH
X-PUBLISHED-TTL:P3D
REFRESH-INTERVAL:P3D
CALSCALE:GREGORIAN
BEGIN:VEVENT
DTSTART:20231005T163000Z
DTEND:20231005T173000Z
X-MICROSOFT-CDO-ALLDAYEVENT:FALSE
SUMMARY:Ribbon Cutting for The Crossing - Macomb
DESCRIPTION:The Ambassador Committee of the Macomb Area Chamber of Commerce will hold a ribbon cutting to celebrate the 12-year anniversary of the Crossing-Macomb.
X-ALT-DESC;FMTTYPE=text/html:The Ambassador Committee of the Macomb Area Chamber of Commerce will hold a ribbon cutting to celebrate the 12-year anniversary of the Crossing-Macomb.&nbsp\;
LOCATION:The Crossing - Macomb 1700 East Jackson Street
UID:e.2125.13793
SEQUENCE:3
DTSTAMP:20260422T122755Z
URL:https://business.macombareachamber.com/events/details/ribbon-cutting-for-the-crossing-macomb-13793
END:VEVENT

END:VCALENDAR
