BEGIN:VCALENDAR
VERSION:2.0
PRODID:-//ChamberMaster//Event Calendar 2.0//EN
METHOD:PUBLISH
X-PUBLISHED-TTL:P3D
REFRESH-INTERVAL:P3D
CALSCALE:GREGORIAN
BEGIN:VEVENT
DTSTART:20231020T163000Z
DTEND:20231020T173000Z
X-MICROSOFT-CDO-ALLDAYEVENT:FALSE
SUMMARY:Ribbon Cutting for The Crafty Coop\, LLC.
DESCRIPTION:Join the Macomb Area Chamber of Commerce Ambassadors as we celebrate the five-year anniversary of The Crafty Coop\, LLC.
X-ALT-DESC;FMTTYPE=text/html:Join the Macomb Area Chamber of Commerce Ambassadors as we celebrate the five-year anniversary of The Crafty Coop\, LLC.
LOCATION:206 N. Lafayette St. Macomb\, Illinois
UID:e.2125.13795
SEQUENCE:3
DTSTAMP:20260422T141045Z
URL:https://business.macombareachamber.com/events/details/ribbon-cutting-for-the-crafty-coop-llc-13795
END:VEVENT

END:VCALENDAR
