BEGIN:VCALENDAR
VERSION:2.0
PRODID:-//ChamberMaster//Event Calendar 2.0//EN
METHOD:PUBLISH
X-PUBLISHED-TTL:P3D
REFRESH-INTERVAL:P3D
CALSCALE:GREGORIAN
BEGIN:VEVENT
DTSTART:20230721T163000Z
DTEND:20230721T173000Z
X-MICROSOFT-CDO-ALLDAYEVENT:FALSE
SUMMARY:Ribbon Cutting for Small Towner Event Venue
DESCRIPTION:A ribbon cutting will be held to welcome a The Small Towner Event Venue\, a new business and Chamber member to the community.
X-ALT-DESC;FMTTYPE=text/html:A ribbon cutting will be held to welcome a The Small Towner Event Venue\, a new business and Chamber member to the community.&nbsp\;
LOCATION:The Small Towner Event Venue 6 W. Side Square Macomb\, IL
UID:e.2125.13611
SEQUENCE:3
DTSTAMP:20260423T180711Z
URL:https://business.macombareachamber.com/events/details/ribbon-cutting-for-small-towner-event-venue-13611
END:VEVENT

END:VCALENDAR
