BEGIN:VCALENDAR
VERSION:2.0
PRODID:-//ChamberMaster//Event Calendar 2.0//EN
METHOD:PUBLISH
X-PUBLISHED-TTL:P3D
REFRESH-INTERVAL:P3D
CALSCALE:GREGORIAN
BEGIN:VEVENT
DTSTART:20230411T163000Z
DTEND:20230411T173000Z
X-MICROSOFT-CDO-ALLDAYEVENT:FALSE
SUMMARY:Ribbon Cutting for ROE26 Family Resource Center
DESCRIPTION:Join us as we celebrate the opening of the ROE26 Family Resource Center\; a one-stop shop for the community to access parenting support\, education\, and resource referrals that impact family well-being.
X-ALT-DESC;FMTTYPE=text/html:Join us as we celebrate the opening of the ROE26 Family Resource Center\; a one-stop shop for the community to access parenting support\, education\, and resource referrals that impact family well-being.&nbsp\;
LOCATION:Gamage Plaza - 339 S. Johnson St.\, Macomb\, Illinois
UID:e.2125.13062
SEQUENCE:3
DTSTAMP:20260423T233326Z
URL:https://business.macombareachamber.com/events/details/ribbon-cutting-for-roe26-family-resource-center-13062
END:VEVENT

END:VCALENDAR
