BEGIN:VCALENDAR
VERSION:2.0
PRODID:-//ChamberMaster//Event Calendar 2.0//EN
METHOD:PUBLISH
X-PUBLISHED-TTL:P3D
REFRESH-INTERVAL:P3D
CALSCALE:GREGORIAN
BEGIN:VEVENT
DTSTART:20230606T163000Z
DTEND:20230606T170000Z
X-MICROSOFT-CDO-ALLDAYEVENT:FALSE
SUMMARY:Ribbon Cutting for Modern Domestic Photography
DESCRIPTION:This ribbon cutting will be held in front of the mural on Gelsosomo's Pizzeria since Modern Domestic Photography does not have a brick-and-mortar location.
X-ALT-DESC;FMTTYPE=text/html:This ribbon cutting will be held in front of the mural on Gelsosomo&#39\;s Pizzeria since Modern Domestic Photography does not have a brick-and-mortar location.
LOCATION:Mural Next to Gelsosomo's Pizzeria
UID:e.2125.13564
SEQUENCE:3
DTSTAMP:20260423T192852Z
URL:https://business.macombareachamber.com/events/details/ribbon-cutting-for-modern-domestic-photography-13564
END:VEVENT

END:VCALENDAR
