BEGIN:VCALENDAR
VERSION:2.0
PRODID:-//ChamberMaster//Event Calendar 2.0//EN
METHOD:PUBLISH
X-PUBLISHED-TTL:P3D
REFRESH-INTERVAL:P3D
CALSCALE:GREGORIAN
BEGIN:VEVENT
DTSTART:20230810T140000Z
DTEND:20230810T143000Z
X-MICROSOFT-CDO-ALLDAYEVENT:FALSE
SUMMARY:Ribbon Cutting for Macomb Middle School
DESCRIPTION:There will be a ribbon cutting for the brand new Macomb Middle School building (1531 S. Johnson St.) Thursday\, August 10 at 9 am. We look forward to seeing you there!
X-ALT-DESC;FMTTYPE=text/html:There will be a ribbon cutting for the brand new Macomb Middle School building (1531 S. Johnson St.) Thursday\, August 10 at 9 am. We look forward to seeing you there!
LOCATION:
UID:e.2125.13656
SEQUENCE:3
DTSTAMP:20260423T163147Z
URL:https://business.macombareachamber.com/events/details/ribbon-cutting-for-macomb-middle-school-13656
END:VEVENT

END:VCALENDAR
