BEGIN:VCALENDAR
VERSION:2.0
PRODID:-//ChamberMaster//Event Calendar 2.0//EN
METHOD:PUBLISH
X-PUBLISHED-TTL:P3D
REFRESH-INTERVAL:P3D
CALSCALE:GREGORIAN
BEGIN:VEVENT
DTSTART:20230605T163000Z
DTEND:20230605T173000Z
X-MICROSOFT-CDO-ALLDAYEVENT:FALSE
SUMMARY:Ribbon Cutting for Lexington Concord Apartments
DESCRIPTION:The Ambassador Committee of the Macomb Area Chamber of Commerce will hold a ribbon cutting to welcome Lexington Concord Apartments to the Macomb Area Chamber.
X-ALT-DESC;FMTTYPE=text/html:The Ambassador Committee of the Macomb Area Chamber of Commerce will hold a ribbon cutting to welcome Lexington Concord Apartments to the Macomb Area Chamber.&nbsp\;
LOCATION:Lexington Concord Apartments - Macomb\, Illinois
UID:e.2125.13587
SEQUENCE:3
DTSTAMP:20260423T192841Z
URL:https://business.macombareachamber.com/events/details/ribbon-cutting-for-lexington-concord-apartments-13587
END:VEVENT

END:VCALENDAR
