BEGIN:VCALENDAR
VERSION:2.0
PRODID:-//ChamberMaster//Event Calendar 2.0//EN
METHOD:PUBLISH
X-PUBLISHED-TTL:P3D
REFRESH-INTERVAL:P3D
CALSCALE:GREGORIAN
BEGIN:VEVENT
DTSTART:20230622T163000Z
DTEND:20230622T173000Z
X-MICROSOFT-CDO-ALLDAYEVENT:FALSE
SUMMARY:Ribbon Cutting for Graham Medical Group - Macomb
DESCRIPTION:The Ambassador Committee of the Macomb Area Chamber of Commerce will hold a ribbon cutting on June 22\, 2023 to welcome the opening of Graham Medical Group - Macomb within the community.
X-ALT-DESC;FMTTYPE=text/html:<span style="font-size:14px\;"><font color="#1d2129" face="Helvetica\, Arial\, sans-serif"><span style="white-space: pre-wrap\;">The Ambassador Committee of the Macomb Area Chamber of Commerce will hold a ribbon cutting on June 22\, 2023 to welcome the opening of Graham Medical Group - Macomb within the community. </span></font></span>
LOCATION:Graham Medical Group Macomb - 1630 E. Jackson Street
UID:e.2125.13568
SEQUENCE:3
DTSTAMP:20260423T192722Z
URL:https://business.macombareachamber.com/events/details/ribbon-cutting-for-graham-medical-group-macomb-13568
END:VEVENT

END:VCALENDAR
