BEGIN:VCALENDAR
VERSION:2.0
PRODID:-//ChamberMaster//Event Calendar 2.0//EN
METHOD:PUBLISH
X-PUBLISHED-TTL:P3D
REFRESH-INTERVAL:P3D
CALSCALE:GREGORIAN
BEGIN:VEVENT
DTSTART:20230628T163000Z
DTEND:20230628T173000Z
X-MICROSOFT-CDO-ALLDAYEVENT:FALSE
SUMMARY:Ribbon Cutting for Credit Union 1 Grand Reopening
DESCRIPTION:The Ambassador Committee of the Macomb Area Chamber of Commerce will hold a ribbon cutting to celebrate the recent reopening of Credit Union 1.
X-ALT-DESC;FMTTYPE=text/html:<span style="font-size:14px\;"><font color="#1d2129" face="Helvetica\, Arial\, sans-serif"><span style="white-space: pre-wrap\;">The Ambassador Committee of the Macomb Area Chamber of Commerce will hold a ribbon cutting to celebrate the recent reopening of Credit Union 1. </span></font></span>
LOCATION:Credit Union 1 - 322 W. University Drive\, Macomb
UID:e.2125.13588
SEQUENCE:3
DTSTAMP:20260423T193009Z
URL:https://business.macombareachamber.com/events/details/ribbon-cutting-for-credit-union-1-grand-reopening-13588
END:VEVENT

END:VCALENDAR
