BEGIN:VCALENDAR
VERSION:2.0
PRODID:-//ChamberMaster//Event Calendar 2.0//EN
METHOD:PUBLISH
X-PUBLISHED-TTL:P3D
REFRESH-INTERVAL:P3D
CALSCALE:GREGORIAN
BEGIN:VEVENT
DTSTART:20220930T204500Z
DTEND:20220930T210000Z
X-MICROSOFT-CDO-ALLDAYEVENT:FALSE
SUMMARY:Ribbon Cutting for 2DYE4 Hair & Co.
DESCRIPTION:Join the Macomb Area Chamber of Commerce Ambassadors as we celebrate 2DYE4 Hair & Co. (129 S. Randolph St.\, Macomb) - a new business in Macomb and a new Chamber member. There will be a grand opening to follow the ribbon cutting.
X-ALT-DESC;FMTTYPE=text/html:Join the Macomb Area Chamber of Commerce Ambassadors as we celebrate 2DYE4 Hair &amp\; Co. (129 S. Randolph St.\, Macomb) - a new business in Macomb and a new Chamber member. There will be a grand opening to follow the ribbon cutting.
LOCATION:2DYE4 Hair & Co. - 129 S. Randolph St.
UID:e.2125.10256
SEQUENCE:3
DTSTAMP:20260423T085517Z
URL:https://business.macombareachamber.com/events/details/ribbon-cutting-for-2dye4-hair-co-10256
END:VEVENT

END:VCALENDAR
