BEGIN:VCALENDAR
VERSION:2.0
PRODID:-//ChamberMaster//Event Calendar 2.0//EN
METHOD:PUBLISH
X-PUBLISHED-TTL:P3D
REFRESH-INTERVAL:P3D
CALSCALE:GREGORIAN
BEGIN:VEVENT
DTSTART:20220702T153000Z
DTEND:20220702T183000Z
X-MICROSOFT-CDO-ALLDAYEVENT:FALSE
SUMMARY:Red\, White and Blue Bouquets!
DESCRIPTION:Celebrate the 4th of July with Red\, White and Blue Bouquets!
X-ALT-DESC;FMTTYPE=text/html:Celebrate the 4th of July with Red\, White and Blue Bouquets!
LOCATION:Discovery Depot Children's Museum 128 S Chambers St Galesburg\, IL\, 61401
UID:e.2125.9880
SEQUENCE:3
DTSTAMP:20260422T120026Z
URL:https://business.macombareachamber.com/events/details/red-white-and-blue-bouquets-9880
END:VEVENT

END:VCALENDAR
