BEGIN:VCALENDAR
VERSION:2.0
PRODID:-//ChamberMaster//Event Calendar 2.0//EN
METHOD:PUBLISH
X-PUBLISHED-TTL:P3D
REFRESH-INTERVAL:P3D
CALSCALE:GREGORIAN
BEGIN:VEVENT
DTSTART:20230506T153000Z
DTEND:20230506T170000Z
X-MICROSOFT-CDO-ALLDAYEVENT:FALSE
SUMMARY:Recycled Art - Wind Chimes
DESCRIPTION:Growing Up Green - Recycle and Reuse to make a one of a kind wind chime for your home.\n\n$1.00 with admission
X-ALT-DESC;FMTTYPE=text/html:<p>Growing Up Green - Recycle and Reuse to make a one of a kind wind chime for your home.</p>\n\n<p>$1.00 with admission</p>\n
LOCATION:Discovery Depot Children's Museum 128 S Chambers St Galesburg\, IL 61401
UID:e.2125.13368
SEQUENCE:3
DTSTAMP:20260423T232820Z
URL:https://business.macombareachamber.com/events/details/recycled-art-wind-chimes-13368
END:VEVENT

END:VCALENDAR
