BEGIN:VCALENDAR
VERSION:2.0
PRODID:-//ChamberMaster//Event Calendar 2.0//EN
METHOD:PUBLISH
X-PUBLISHED-TTL:P3D
REFRESH-INTERVAL:P3D
CALSCALE:GREGORIAN
BEGIN:VEVENT
DTSTART;VALUE=DATE:20230722
DTEND;VALUE=DATE:20230723
TRANSP:TRANSPARENT
X-MICROSOFT-CDO-ALLDAYEVENT:TRUE
SUMMARY:Raising Saints Block Party
DESCRIPTION:Raising Saints Block Party. Open to the Public! All proceeds go to supporting our local kids! Bounce houses and water fun for kids 10 am-Noon. Craig Corzatt/Captain Geech and the Shrimp Shack Shooters 6-Midnight  (in the lot by Vitales). Over 21 for food and fun.
X-ALT-DESC;FMTTYPE=text/html:Raising Saints Block Party. Open to the Public! All proceeds go to supporting our local kids! Bounce houses and water fun for kids 10 am-Noon. Craig Corzatt/Captain Geech and the Shrimp Shack Shooters 6-Midnight&nbsp\; (in the lot by Vitales). Over 21 for food and fun.&nbsp\;
LOCATION:St. Paul's School - 322 West Washington St.\, Macomb.
UID:e.2125.13583
SEQUENCE:3
DTSTAMP:20260423T174717Z
URL:https://business.macombareachamber.com/events/details/raising-saints-block-party-13583
END:VEVENT

END:VCALENDAR
