BEGIN:VCALENDAR
VERSION:2.0
PRODID:-//ChamberMaster//Event Calendar 2.0//EN
METHOD:PUBLISH
X-PUBLISHED-TTL:P3D
REFRESH-INTERVAL:P3D
CALSCALE:GREGORIAN
BEGIN:VEVENT
DTSTART:20241030T220000Z
DTEND:20241031T010000Z
X-MICROSOFT-CDO-ALLDAYEVENT:FALSE
SUMMARY:Pumpkin Glow
DESCRIPTION:The Pumpkin Glow/carving Contest will be taking submissions 10/29 from\n\n4-6pm and 10/30 from 4-5pm.\n\n\n\nYou don't need to be an expert to show us what you got! Make a family fun night of it and carve your pumpkins the weekend before! Drop off your already carved pumpkin\, and we will light them up and display them!\n\nThen stop by October 30th from 5-8 pm\, trick or treat\, walk through our indoor pumpkin glow\, and vote for your favorite!\n\n\n\n*Pumpkins must be in good condition (no rotting\, moldy pumpkins). We reserve the right to refuse any pumpkins for any reason (inappropriate design\, profanity\, poor condition\, etc...) Pumpkins will be immediately disposed of after the event unless arrangements are made ahead of time. Please contact us on our Facebook page with any questions!
X-ALT-DESC;FMTTYPE=text/html:The Pumpkin Glow/carving Contest will be taking submissions 10/29 from<br />\n4-6pm and 10/30 from 4-5pm.<br />\n<br />\nYou don&#39\;t need to be an expert to show us what you got! Make a family fun night of it and carve your pumpkins the weekend before! Drop off your already carved pumpkin\, and we will light them up and display them!<br />\nThen stop by October 30th from 5-8 pm\, trick or treat\, walk through our indoor pumpkin glow\, and vote for your favorite!<br />\n<br />\n*Pumpkins must be in good condition (no rotting\, moldy pumpkins). We reserve the right to refuse any pumpkins for any reason (inappropriate design\, profanity\, poor condition\, etc...) Pumpkins will be immediately disposed of after the event unless arrangements are made ahead of time. Please contact us on our Facebook page with any questions!&nbsp\;
LOCATION:The Small Towner Event Venue 6 W. Side Square Macomb\, IL
UID:e.2125.16003
SEQUENCE:3
DTSTAMP:20260422T053744Z
URL:https://business.macombareachamber.com/events/details/pumpkin-glow-16003
END:VEVENT

END:VCALENDAR
