BEGIN:VCALENDAR
VERSION:2.0
PRODID:-//ChamberMaster//Event Calendar 2.0//EN
METHOD:PUBLISH
X-PUBLISHED-TTL:P3D
REFRESH-INTERVAL:P3D
CALSCALE:GREGORIAN
BEGIN:VEVENT
DTSTART:20240421T170000Z
DTEND:20240421T210000Z
X-MICROSOFT-CDO-ALLDAYEVENT:FALSE
SUMMARY:Pride Festival "Queer Joy"
DESCRIPTION:Join us for our first EVER Pride Festival on the Multicultural Center Lawn THIS Sunday!  \n\nThis years theme is "Queer Joy". \n\nGet ready to wave your rainbow flags and celebrate\, love\, acceptance\, and diversity at this highly anticipated event! Whether you identify with as LGBT*QA or simply want to show your support as an ally\; this event welcomes all with open arms!
X-ALT-DESC;FMTTYPE=text/html:Join us for our first EVER Pride Festival on the Multicultural Center Lawn THIS Sunday!&nbsp\;&nbsp\;<br />\nThis years theme is &ldquo\;Queer Joy&rdquo\;.&nbsp\;<br />\nGet ready to wave your rainbow flags and celebrate\, love\, acceptance\, and diversity at this highly anticipated event! Whether you identify with as LGBT*QA or simply want to show your support as an ally\; this event welcomes all with open arms!&nbsp\;
LOCATION:
UID:e.2125.14833
SEQUENCE:3
DTSTAMP:20260423T102401Z
URL:https://business.macombareachamber.com/events/details/pride-festival-queer-joy-14833
END:VEVENT

END:VCALENDAR
