BEGIN:VCALENDAR
VERSION:2.0
PRODID:-//ChamberMaster//Event Calendar 2.0//EN
METHOD:PUBLISH
X-PUBLISHED-TTL:P3D
REFRESH-INTERVAL:P3D
CALSCALE:GREGORIAN
BEGIN:VEVENT
DTSTART:20220909T000000Z
DTEND:20220909T020000Z
X-MICROSOFT-CDO-ALLDAYEVENT:FALSE
SUMMARY:Prairie Quilters
DESCRIPTION:Hosted by: University Baptist Church\n\nPrairie Quilter meets every second Thursday to share information and stories about quilting and share designs and more. If you are interested in quilting\, come and join us each month.
X-ALT-DESC;FMTTYPE=text/html:Hosted by: University Baptist Church<br />\nPrairie Quilter meets every second Thursday to share information and stories about quilting and share designs and more. If you are interested in quilting\, come and join us each month.
LOCATION:University Baptist Church 315 N Sherman Ave Macomb\, IL 61455
UID:e.2125.6305
SEQUENCE:3
DTSTAMP:20260423T085332Z
URL:https://business.macombareachamber.com/events/details/prairie-quilters-09-08-2022-6305
END:VEVENT

END:VCALENDAR
