BEGIN:VCALENDAR
VERSION:2.0
PRODID:-//ChamberMaster//Event Calendar 2.0//EN
METHOD:PUBLISH
X-PUBLISHED-TTL:P3D
REFRESH-INTERVAL:P3D
CALSCALE:GREGORIAN
BEGIN:VEVENT
DTSTART;VALUE=DATE:20240708
DTEND;VALUE=DATE:20240710
TRANSP:TRANSPARENT
X-MICROSOFT-CDO-ALLDAYEVENT:TRUE
SUMMARY:Positional Volleyball Clinics
DESCRIPTION:Positional Clinics\n\nAttacking\, Ball Control\, Setting\, and Serving\n\nThese clinics are designed for athletes looking to work on position specific skills. We will focus on the technical components\, to further the athletes' knowledge on each skill.\n\n\n\nGrades: 7th - 12th\n\nCheck-In: 30 Minutes before Clinic\n\nTimes: See Below\n\nCost: $34 per Clinic ($30 + $4 Fee)\n\n\n\n*$25 off when registering for ALL 4 clinics (Attacking\, Ball Control\, Setting and Serving) in the SAME transaction\n\nMeals are not Included.
X-ALT-DESC;FMTTYPE=text/html:Positional Clinics<br />\nAttacking\, Ball Control\, Setting\, and Serving<br />\nThese clinics are designed for athletes looking to work on position specific skills. We will focus on the technical components\, to further the athletes&rsquo\; knowledge on each skill.<br />\n<br />\nGrades: 7th - 12th<br />\nCheck-In: 30 Minutes before Clinic<br />\nTimes: See Below<br />\nCost: $34 per Clinic ($30 + $4 Fee)<br />\n<br />\n*$25 off when registering for ALL 4 clinics (Attacking\, Ball Control\, Setting and Serving) in the SAME transaction<br />\nMeals are not Included.
LOCATION:Western Hall\, W University Dr\, Macomb\, IL 61455
UID:e.2125.14808
SEQUENCE:3
DTSTAMP:20260423T010202Z
URL:https://business.macombareachamber.com/events/details/positional-volleyball-clinics-14808
END:VEVENT

END:VCALENDAR
