BEGIN:VCALENDAR
VERSION:2.0
PRODID:-//ChamberMaster//Event Calendar 2.0//EN
METHOD:PUBLISH
X-PUBLISHED-TTL:P3D
REFRESH-INTERVAL:P3D
CALSCALE:GREGORIAN
BEGIN:VEVENT
DTSTART;VALUE=DATE:20231022
DTEND;VALUE=DATE:20231023
TRANSP:TRANSPARENT
X-MICROSOFT-CDO-ALLDAYEVENT:TRUE
SUMMARY:Portraits Recital
DESCRIPTION:A dedication concert to honor Rev. Dr. C.T. Vivian. A joint faculty recital with Alfonzo Cooper\, Jr.\, Tenor\; Linda Andrews\, Organ
X-ALT-DESC;FMTTYPE=text/html:A dedication concert to honor Rev. Dr. C.T. Vivian. A joint faculty recital with Alfonzo Cooper\, Jr.\, Tenor\; Linda Andrews\, Organ&nbsp\;
LOCATION:First Presbyterian Church 400 E. Carroll St. Macomb\, Illinois
UID:e.2125.14072
SEQUENCE:3
DTSTAMP:20260422T135713Z
URL:https://business.macombareachamber.com/events/details/portraits-recital-14072
END:VEVENT

END:VCALENDAR
