BEGIN:VCALENDAR
VERSION:2.0
PRODID:-//ChamberMaster//Event Calendar 2.0//EN
METHOD:PUBLISH
X-PUBLISHED-TTL:P3D
REFRESH-INTERVAL:P3D
CALSCALE:GREGORIAN
BEGIN:VEVENT
DTSTART:20241027T153000Z
DTEND:20241027T170000Z
X-MICROSOFT-CDO-ALLDAYEVENT:FALSE
SUMMARY:Play Without Boundaries
DESCRIPTION:An exclusive time for special needs families.  Enjoy reduced number of visitors\, space\, freedom to explore at your own pace\, and the opportunity to connect with other families. $6.00 admission Members are free.  Advance tickets are required.
X-ALT-DESC;FMTTYPE=text/html:An exclusive time for special needs families.&nbsp\; Enjoy reduced number of visitors\, space\, freedom to explore at your own pace\, and the opportunity to connect with other families. $6.00 admission Members are free.&nbsp\; Advance tickets are required.&nbsp\;
LOCATION:Discovery Depot Children's Museum 128 S Chambers St Galesburg\, IL 61401
UID:e.2125.16093
SEQUENCE:3
DTSTAMP:20260422T061104Z
URL:https://business.macombareachamber.com/events/details/play-without-boundaries-10-27-2024-16093
END:VEVENT

END:VCALENDAR
