BEGIN:VCALENDAR
VERSION:2.0
PRODID:-//ChamberMaster//Event Calendar 2.0//EN
METHOD:PUBLISH
X-PUBLISHED-TTL:P3D
REFRESH-INTERVAL:P3D
CALSCALE:GREGORIAN
BEGIN:VEVENT
DTSTART:20240929T153000Z
DTEND:20240929T170000Z
X-MICROSOFT-CDO-ALLDAYEVENT:FALSE
SUMMARY:Play Without Boundaries
DESCRIPTION:An exclusive time for special needs children and their families.\n\n\n\n$6.00 admission/ members are free.\n\n\n\nPresented by assciation with Lions Club International.
X-ALT-DESC;FMTTYPE=text/html:An exclusive time for special needs children and their families.<br />\n<br />\n$6.00 admission/ members are free.<br />\n<br />\nPresented by assciation with Lions Club International.
LOCATION:Discovery Depot 128 S Chambers Street Galesburg\, IL
UID:e.2125.15937
SEQUENCE:3
DTSTAMP:20260422T075335Z
URL:https://business.macombareachamber.com/events/details/play-without-boundaries-09-29-2024-15937
END:VEVENT

END:VCALENDAR
