BEGIN:VCALENDAR
VERSION:2.0
PRODID:-//ChamberMaster//Event Calendar 2.0//EN
METHOD:PUBLISH
X-PUBLISHED-TTL:P3D
REFRESH-INTERVAL:P3D
CALSCALE:GREGORIAN
BEGIN:VEVENT
DTSTART:20240728T153000Z
DTEND:20240728T170000Z
X-MICROSOFT-CDO-ALLDAYEVENT:FALSE
SUMMARY:Play Without Boundaries
DESCRIPTION:An exclusive time for special needs kids and their families\n\n\n\nAdvanced tickets are required\n\n\n\nIn partnership with the Lions Club International
X-ALT-DESC;FMTTYPE=text/html:An exclusive time for special needs kids and their families<br />\n<br />\nAdvanced tickets are required<br />\n<br />\nIn partnership with the Lions Club International
LOCATION:128 S Chambers Street Galesburg\, Il 61401
UID:e.2125.15190
SEQUENCE:3
DTSTAMP:20260423T010245Z
URL:https://business.macombareachamber.com/events/details/play-without-boundaries-07-28-2024-15190
END:VEVENT

END:VCALENDAR
