BEGIN:VCALENDAR
VERSION:2.0
PRODID:-//ChamberMaster//Event Calendar 2.0//EN
METHOD:PUBLISH
X-PUBLISHED-TTL:P3D
REFRESH-INTERVAL:P3D
CALSCALE:GREGORIAN
BEGIN:VEVENT
DTSTART:20230611T153000Z
DTEND:20230611T170000Z
X-MICROSOFT-CDO-ALLDAYEVENT:FALSE
SUMMARY:Play Without Boundaries
DESCRIPTION:An exclusive night for special-needs families. Enjoy reduced number of visitors\, space and freedom to explore at your own pace\, and the opportunity to connect with other families. $5.00 admission. Members are free. Advanced tickets required.
X-ALT-DESC;FMTTYPE=text/html:An exclusive night for special-needs families. Enjoy reduced number of visitors\, space and freedom to explore at your own pace\, and the opportunity to connect with other families. $5.00 admission. Members are free. Advanced tickets required.
LOCATION:Discovery Depot Children's Museum 128 S Chambers St Galesburg\, IL\, 61401
UID:e.2125.13556
SEQUENCE:3
DTSTAMP:20260423T192256Z
URL:https://business.macombareachamber.com/events/details/play-without-boundaries-06-11-2023-13556
END:VEVENT

END:VCALENDAR
