BEGIN:VCALENDAR
VERSION:2.0
PRODID:-//ChamberMaster//Event Calendar 2.0//EN
METHOD:PUBLISH
X-PUBLISHED-TTL:P3D
REFRESH-INTERVAL:P3D
CALSCALE:GREGORIAN
BEGIN:VEVENT
DTSTART:20250504T153000Z
DTEND:20250504T170000Z
X-MICROSOFT-CDO-ALLDAYEVENT:FALSE
SUMMARY:Play Without Boundaries
DESCRIPTION:Play without Boundaries\n\nAn exclusive time for children with special needs and their families\n\n$6.50 admission/members are free\n\nAdvanced tickets required
X-ALT-DESC;FMTTYPE=text/html:Play without Boundaries<br />\nAn exclusive time for children with special needs and their families<br />\n$6.50 admission/members are free<br />\nAdvanced tickets required
LOCATION:
UID:e.2125.18856
SEQUENCE:3
DTSTAMP:20260422T104025Z
URL:https://business.macombareachamber.com/events/details/play-without-boundaries-05-04-2025-18856
END:VEVENT

END:VCALENDAR
