BEGIN:VCALENDAR
VERSION:2.0
PRODID:-//ChamberMaster//Event Calendar 2.0//EN
METHOD:PUBLISH
X-PUBLISHED-TTL:P3D
REFRESH-INTERVAL:P3D
CALSCALE:GREGORIAN
BEGIN:VEVENT
DTSTART:20231024T140000Z
DTEND:20231024T153000Z
X-MICROSOFT-CDO-ALLDAYEVENT:FALSE
SUMMARY:Photos from my Phone
DESCRIPTION:Do you have photos on your phone and you're not sure what to do with them? This class is for you! We'll learn how to get photos from your phone to your computer or to a store for printing. Bring your phone and your charging cord and get your questions answered. Instructor is Andrea Barbknecht.
X-ALT-DESC;FMTTYPE=text/html:<div style="font-family: arial\, sans-serif\; color: rgb(64\, 63\, 66)\; font-size: 12px\; background-color: rgb(255\, 255\, 255)\;">Do you have photos on your phone and you&rsquo\;re not sure what to do with them? This class is for you! We&rsquo\;ll learn how to get photos from your phone to your computer or to a store for printing. Bring your phone and your charging cord and get your questions answered. Instructor is Andrea Barbknecht.</div>\n
LOCATION:Spoon River College | Community Outreach Center\, 2500 E Jackson St\, Macomb\, IL 61455
UID:e.2125.13802
SEQUENCE:3
DTSTAMP:20260422T122252Z
URL:https://business.macombareachamber.com/events/details/photos-from-my-phone-13802
END:VEVENT

END:VCALENDAR
