BEGIN:VCALENDAR
VERSION:2.0
PRODID:-//ChamberMaster//Event Calendar 2.0//EN
METHOD:PUBLISH
X-PUBLISHED-TTL:P3D
REFRESH-INTERVAL:P3D
CALSCALE:GREGORIAN
BEGIN:VEVENT
DTSTART;VALUE=DATE:20230506
DTEND;VALUE=DATE:20230507
TRANSP:TRANSPARENT
X-MICROSOFT-CDO-ALLDAYEVENT:TRUE
SUMMARY:Performing Arts Society Annual Gala: An Evening in the Tropics
DESCRIPTION:The Performing Arts Society will host their annual gala on May 6\, 2023. Theme is an Evening in the Tropics. Black tie optional with a tropical flair. Registration opens March 20.
X-ALT-DESC;FMTTYPE=text/html:The Performing Arts Society will host their annual gala on May 6\, 2023. Theme is an Evening in the Tropics. Black tie optional with a tropical flair. Registration opens March 20.&nbsp\;
LOCATION:Western Illinois University - Macomb Campus University Union - Grand Ballroom
UID:e.2125.12732
SEQUENCE:3
DTSTAMP:20260423T233409Z
URL:https://business.macombareachamber.com/events/details/performing-arts-society-annual-gala-an-evening-in-the-tropics-12732
END:VEVENT

END:VCALENDAR
