BEGIN:VCALENDAR
VERSION:2.0
PRODID:-//ChamberMaster//Event Calendar 2.0//EN
METHOD:PUBLISH
X-PUBLISHED-TTL:P3D
REFRESH-INTERVAL:P3D
CALSCALE:GREGORIAN
BEGIN:VEVENT
DTSTART:20240424T233000Z
DTEND:20240425T013000Z
X-MICROSOFT-CDO-ALLDAYEVENT:FALSE
SUMMARY:Performing and Showcasing Africa: Dance and Wildlife Exhibition
DESCRIPTION:Hosted by the Department of Sociology & Anthropology. Mixed-media exhibition features a live performance of traditional dance forms and a digital slideshow exploring African wildlife and ecological landscapes. \n\n\n\nBe prepared to participate in the dance performance. Free food and drinks.
X-ALT-DESC;FMTTYPE=text/html:Hosted by the Department of Sociology &amp\; Anthropology. Mixed-media exhibition features a live performance of traditional dance forms and a digital slideshow exploring African wildlife and ecological landscapes.&nbsp\;<br />\n<br />\nBe prepared to participate in the dance performance. Free food and drinks.&nbsp\;
LOCATION:Western Illinois University Multicultural Center Macomb\, Illinois
UID:e.2125.14820
SEQUENCE:3
DTSTAMP:20260423T060557Z
URL:https://business.macombareachamber.com/events/details/performing-and-showcasing-africa-dance-and-wildlife-exhibition-14820
END:VEVENT

END:VCALENDAR
