BEGIN:VCALENDAR
VERSION:2.0
PRODID:-//ChamberMaster//Event Calendar 2.0//EN
METHOD:PUBLISH
X-PUBLISHED-TTL:P3D
REFRESH-INTERVAL:P3D
CALSCALE:GREGORIAN
BEGIN:VEVENT
DTSTART:20230525T150000Z
DTEND:20230525T170000Z
X-MICROSOFT-CDO-ALLDAYEVENT:FALSE
SUMMARY:Pennycress Field Day
DESCRIPTION:The Western Illinois University School of Agriculture will host its fourth annual IPREFER Pennycress Field Day from 10 a.m.-noon Thursday\, May 25 at the Agriculture Field Laboratory on Tower Road in Macomb.\n\n\n\nThe event is open free to the public and no registration is required. The field laboratory is located north of the Harry Mussatto Golf Course.\n\n\n\nThis year's Pennycress Field Day has been established to introduce the new winter annual crop of field pennycress to local producers. The event will feature researchers and industry representatives discussing the short season crop and the results from the previous year.\n\n\n\nThe event will also introduce the IPREFER NIFA-CAP project\, which is infusing $10 million toward the development and commercial launch of pennycress\, along with the $13 million USDA-DOE IPREP project\, focused on the abiotic stresses impacting pennycress production. Additional research projects funded by the Illinois Soybean Association\, the Nutrient Research and Education Council\, and CoverCress\, Inc.\, looking at soybean planting dates\, interseeding and impact of cover crops on water and soil health will be discussed.\n\n\n\nThe Pennycress Field Day is set up as a guided tour of the WIU pennycress plots. Attendees should wear walking shoes and snacks and water will be provided.\n\n\n\nFor questions\, or if you would like to bring a large group of the event\, contact WIU Agriculture Professor Win Phippen at WB-Phippen@wiu.edu.\n\n\n\nFor more information on the WIU pennycress project\, visit wiu.edu/pennycress.
X-ALT-DESC;FMTTYPE=text/html:The Western Illinois University School of Agriculture will host its fourth annual IPREFER Pennycress Field Day from 10 a.m.-noon Thursday\, May 25 at the Agriculture Field Laboratory on Tower Road in Macomb.<br />\n<br />\nThe event is open free to the public and no registration is required. The field laboratory is located north of the Harry Mussatto Golf Course.<br />\n<br />\nThis year&#39\;s Pennycress Field Day has been established to introduce the new winter annual crop of field pennycress to local producers. The event will feature researchers and industry representatives discussing the short season crop and the results from the previous year.<br />\n<br />\nThe event will also introduce the IPREFER NIFA-CAP project\, which is infusing $10 million toward the development and commercial launch of pennycress\, along with the $13 million USDA-DOE IPREP project\, focused on the abiotic stresses impacting pennycress production. Additional research projects funded by the Illinois Soybean Association\, the Nutrient Research and Education Council\, and CoverCress\, Inc.\, looking at soybean planting dates\, interseeding and impact of cover crops on water and soil health will be discussed.<br />\n<br />\nThe Pennycress Field Day is set up as a guided tour of the WIU pennycress plots. Attendees should wear walking shoes and snacks and water will be provided.<br />\n<br />\nFor questions\, or if you would like to bring a large group of the event\, contact WIU Agriculture Professor Win Phippen at WB-Phippen@wiu.edu.<br />\n<br />\nFor more information on the WIU pennycress project\, visit wiu.edu/pennycress.
LOCATION:
UID:e.2125.13535
SEQUENCE:3
DTSTAMP:20260423T232819Z
URL:https://business.macombareachamber.com/events/details/pennycress-field-day-13535
END:VEVENT

END:VCALENDAR
