BEGIN:VCALENDAR
VERSION:2.0
PRODID:-//ChamberMaster//Event Calendar 2.0//EN
METHOD:PUBLISH
X-PUBLISHED-TTL:P3D
REFRESH-INTERVAL:P3D
CALSCALE:GREGORIAN
BEGIN:VEVENT
DTSTART:20220710T000000Z
DTEND:20220710T030000Z
X-MICROSOFT-CDO-ALLDAYEVENT:FALSE
SUMMARY:Pendulum A Tribute to C.C.R.
DESCRIPTION:Pendulum\n\n\n\nA Tribute to C.C.R.\n\nLIVE 7/9 @7pm! \n\n\n\nPendulum\, a tribute to Creedence Clearwater Revival\, performs the music of one of rock and rolls most iconic bands.\n\n\n\nThe band is comprised of seasoned musicians with many years of entertaining experience across a wide range of musical genres.\n\n\n\nFrom the precise lead vocals and melodic harmonies to the hard driving guitars and drums. Pendulum is the ultimate tribute to\n\n\n\nOne of the great bands of the Sixties.  Get ready to rock to the timeless music of Creedence Clearwater Revival when Pendulum swings at the Legacy Theater!
X-ALT-DESC;FMTTYPE=text/html:<p class="font_8" style="margin: 0px\; padding: 0px\; border: 0px\; outline: 0px\; vertical-align: baseline\; background: transparent\; pointer-events: auto\; font-size: 17px\; line-height: 1.5em\; color: rgb(0\, 0\, 0)\; text-align: justify\;"><br />\nPendulum<br />\n<br />\nA Tribute to C.C.R.<br />\nLIVE 7/9 @7pm!&nbsp\;<br />\n<br />\nPendulum\, a tribute to Creedence Clearwater Revival\, performs the music of one of rock and rolls most iconic bands.<br />\n<br />\nThe band is comprised of seasoned musicians with many years of entertaining experience across a wide range of musical genres.<br />\n<br />\nFrom the precise lead vocals and melodic harmonies to the hard driving guitars and drums. Pendulum is the ultimate tribute to<br />\n<br />\nOne of the great bands of the Sixties.&nbsp\; Get ready to rock to the timeless music of Creedence Clearwater Revival when Pendulum swings at the Legacy Theater!&nbsp\;</p>\n
LOCATION:1160 Buchanan St\, Carthage\, IL
UID:e.2125.7928
SEQUENCE:3
DTSTAMP:20260422T120249Z
URL:https://business.macombareachamber.com/events/details/pendulum-a-tribute-to-c-c-r-7928
END:VEVENT

END:VCALENDAR
