BEGIN:VCALENDAR
VERSION:2.0
PRODID:-//ChamberMaster//Event Calendar 2.0//EN
METHOD:PUBLISH
X-PUBLISHED-TTL:P3D
REFRESH-INTERVAL:P3D
CALSCALE:GREGORIAN
BEGIN:VEVENT
DTSTART:20220714T140000Z
DTEND:20220714T210000Z
X-MICROSOFT-CDO-ALLDAYEVENT:FALSE
SUMMARY:Pediatric COVID-19 Vaccination Clinic
DESCRIPTION:The McDonough County Health Department will be offering a pediatric COVID-19 vaccination clinic on Thursday July 14\, 2022\, 9am-4pm. This clinic will offer:\n\nModerna-Pediatric Dose- ages 6 months-5 years\n\nPfizer-Pediatric Dose- ages 6 months- 4 years\n\nPfizer-Pediatric Dose- ages 5-11 years\n\nPfizer-Booster Dose-ages 5-11 years\n\n\n\nThere will be no vaccinations available that day for 12 and older and appointments are required. Schedule an appointment time using this link: https://events.juvare.com/IL-IDPH/bx7ux/\n\n\n\nFor comprehensive information about COVID-19 vaccination for kids visit the CDC: https://www.cdc.gov/coronavirus/2019-ncov/vaccines/recommendations/children-teens.html?s_cid=11368:minimum%20age%20for%20covid%20vaccine:sem.ga:p:RG:GM:gen:PTN:FY21
X-ALT-DESC;FMTTYPE=text/html:<div class="kvgmc6g5 cxmmr5t8 oygrvhab hcukyx3x c1et5uql ii04i59q" style="overflow-wrap: break-word\; margin: 0px\; white-space: pre-wrap\; font-family: &quot\;Segoe UI Historic&quot\;\, &quot\;Segoe UI&quot\;\, Helvetica\, Arial\, sans-serif\; color: rgb(5\, 5\, 5)\; font-size: 15px\; background-color: rgb(255\, 255\, 255)\;">\n<div dir="auto" style="font-family: inherit\;">The McDonough County Health Department will be offering a pediatric COVID-19 vaccination clinic on Thursday July 14\, 2022\, 9am-4pm. This clinic will offer:</div>\n\n<div dir="auto" style="font-family: inherit\;">Moderna-Pediatric Dose- ages 6 months-5 years</div>\n\n<div dir="auto" style="font-family: inherit\;">Pfizer-Pediatric Dose- ages 6 months- 4 years</div>\n\n<div dir="auto" style="font-family: inherit\;">Pfizer-Pediatric Dose- ages 5-11 years</div>\n\n<div dir="auto" style="font-family: inherit\;">Pfizer-Booster Dose-ages 5-11 years</div>\n</div>\n\n<div class="cxmmr5t8 oygrvhab hcukyx3x c1et5uql o9v6fnle ii04i59q" style="overflow-wrap: break-word\; margin: 0.5em 0px 0px\; white-space: pre-wrap\; font-family: &quot\;Segoe UI Historic&quot\;\, &quot\;Segoe UI&quot\;\, Helvetica\, Arial\, sans-serif\; color: rgb(5\, 5\, 5)\; font-size: 15px\; background-color: rgb(255\, 255\, 255)\;">\n<div dir="auto" style="font-family: inherit\;">There will be no vaccinations available that day for 12 and older and appointments are required. Schedule an appointment time using this link: <span style="font-family: inherit\;"><a class="oajrlxb2 g5ia77u1 qu0x051f esr5mh6w e9989ue4 r7d6kgcz rq0escxv nhd2j8a9 nc684nl6 p7hjln8o kvgmc6g5 cxmmr5t8 oygrvhab hcukyx3x jb3vyjys rz4wbd8a qt6c0cv9 a8nywdso i1ao9s8h esuyzwwr f1sip0of lzcic4wl gpro0wi8 py34i1dx" href="https://events.juvare.com/IL-IDPH/bx7ux/?fbclid=IwAR2e6npmMHvadNrPu3l-pDRKv4skejqBWRQe6zt9alWLpxuymw--yTw6QR0" rel="nofollow noopener" role="link" style="cursor: pointer\; text-decoration-line: none\; outline: none\; list-style: none\; border-width: 0px\; border-style: initial\; border-color: initial\; padding: 0px\; margin: 0px\; touch-action: manipulation\; background-color: transparent\; text-align: inherit\; display: inline\; -webkit-tap-highlight-color: transparent\; box-sizing: border-box\; font-family: inherit\;" tabindex="0" target="_blank">https://events.juvare.com/IL-IDPH/bx7ux/</a></span></div>\n</div>\n\n<div class="cxmmr5t8 oygrvhab hcukyx3x c1et5uql o9v6fnle ii04i59q" style="overflow-wrap: break-word\; margin: 0.5em 0px 0px\; white-space: pre-wrap\; font-family: &quot\;Segoe UI Historic&quot\;\, &quot\;Segoe UI&quot\;\, Helvetica\, Arial\, sans-serif\; color: rgb(5\, 5\, 5)\; font-size: 15px\; background-color: rgb(255\, 255\, 255)\;">\n<div dir="auto" style="font-family: inherit\;">For comprehensive information about COVID-19 vaccination for kids visit the CDC: <span style="font-family: inherit\;"><a class="oajrlxb2 g5ia77u1 qu0x051f esr5mh6w e9989ue4 r7d6kgcz rq0escxv nhd2j8a9 nc684nl6 p7hjln8o kvgmc6g5 cxmmr5t8 oygrvhab hcukyx3x jb3vyjys rz4wbd8a qt6c0cv9 a8nywdso i1ao9s8h esuyzwwr f1sip0of lzcic4wl gpro0wi8 py34i1dx" href="https://www.cdc.gov/coronavirus/2019-ncov/vaccines/recommendations/children-teens.html?s_cid=11368%3Aminimum%20age%20for%20covid%20vaccine%3Asem.ga%3Ap%3ARG%3AGM%3Agen%3APTN%3AFY21&amp\;fbclid=IwAR0d-C77Wxt5D6Qj6z9bhQNDtKzhlfAcinyDAtmbr1PFhMU1hgIz-oXTz38" rel="nofollow noopener" role="link" style="cursor: pointer\; text-decoration-line: none\; outline: none\; list-style: none\; border-width: 0px\; border-style: initial\; border-color: initial\; padding: 0px\; margin: 0px\; touch-action: manipulation\; background-color: transparent\; text-align: inherit\; display: inline\; -webkit-tap-highlight-color: transparent\; box-sizing: border-box\; font-family: inherit\;" tabindex="0" target="_blank">https://www.cdc.gov/coronavirus/2019-ncov/vaccines/recommendations/children-teens.html?s_cid=11368:minimum%20age%20for%20covid%20vaccine:sem.ga:p:RG:GM:gen:PTN:FY21</a></span></div>\n</div>\n
LOCATION:
UID:e.2125.9896
SEQUENCE:3
DTSTAMP:20260422T134412Z
URL:https://business.macombareachamber.com/events/details/pediatric-covid-19-vaccination-clinic-9896
END:VEVENT

END:VCALENDAR
