BEGIN:VCALENDAR
VERSION:2.0
PRODID:-//ChamberMaster//Event Calendar 2.0//EN
METHOD:PUBLISH
X-PUBLISHED-TTL:P3D
REFRESH-INTERVAL:P3D
CALSCALE:GREGORIAN
BEGIN:VEVENT
DTSTART:20220903T150000Z
DTEND:20220903T180000Z
X-MICROSOFT-CDO-ALLDAYEVENT:FALSE
SUMMARY:Patriotic Pinwheels
DESCRIPTION:Create your own pinwheel for Labor Day! Free with admission.
X-ALT-DESC;FMTTYPE=text/html:Create your own pinwheel for Labor Day! Free with admission.
LOCATION:Discovery Depot Children's Museum 128 S Chambers St Galesburg\, IL\, 61401
UID:e.2125.9988
SEQUENCE:3
DTSTAMP:20260423T100441Z
URL:https://business.macombareachamber.com/events/details/patriotic-pinwheels-9988
END:VEVENT

END:VCALENDAR
