BEGIN:VCALENDAR
VERSION:2.0
PRODID:-//ChamberMaster//Event Calendar 2.0//EN
METHOD:PUBLISH
X-PUBLISHED-TTL:P3D
REFRESH-INTERVAL:P3D
CALSCALE:GREGORIAN
BEGIN:VEVENT
DTSTART:20240420T223000Z
DTEND:20240421T040000Z
X-MICROSOFT-CDO-ALLDAYEVENT:FALSE
SUMMARY:PAS Gala 2024: Bourbon and Roses
DESCRIPTION:PAS is off to the races! Join the Performing Arts Society for its annual Gala. This year's gala\, Bourbon & Roses\, will feature silent and live auctions\, awards\, dinner\, and dancing! The President's String Quartet will play during cocktail hour and enjoy The Downtime Band following dinner.\n\n\n\nTickets are $85/person. Corporate tables are available for $800 (table of 8) which includes two bottles of wine and premier seating.\n\n\n\nRegister at westernpresents.com.\n\n\n\nThe Gala is sponsored by APEX - Cory Clem\, Clock Tower Community Bank\, MidAmerica National Bank\, and Spring Lake Management.
X-ALT-DESC;FMTTYPE=text/html:PAS is off to the races! Join the Performing Arts Society for its annual Gala. This year&#39\;s gala\, Bourbon &amp\; Roses\, will feature silent and live auctions\, awards\, dinner\, and dancing! The President&#39\;s String Quartet will play during cocktail hour and enjoy The Downtime Band following dinner.<br />\n<br />\nTickets are $85/person. Corporate tables are available for $800 (table of 8) which includes two bottles of wine and premier seating.<br />\n<br />\nRegister at westernpresents.com.<br />\n<br />\nThe Gala is sponsored by APEX - Cory Clem\, Clock Tower Community Bank\, MidAmerica National Bank\, and Spring Lake Management.<br />\n&nbsp\;
LOCATION:University Union Grand Ballroom
UID:e.2125.14576
SEQUENCE:3
DTSTAMP:20260423T102508Z
URL:https://business.macombareachamber.com/events/details/pas-gala-2024-bourbon-and-roses-14576
END:VEVENT

END:VCALENDAR
