BEGIN:VCALENDAR
VERSION:2.0
PRODID:-//ChamberMaster//Event Calendar 2.0//EN
METHOD:PUBLISH
X-PUBLISHED-TTL:P3D
REFRESH-INTERVAL:P3D
CALSCALE:GREGORIAN
BEGIN:VEVENT
DTSTART:20240723T130000Z
DTEND:20240723T153000Z
X-MICROSOFT-CDO-ALLDAYEVENT:FALSE
SUMMARY:Park & Play
DESCRIPTION:Join in every Tuesday and Friday in July at Veterans park for some free park fun! No registration needed - just come ready to start your day with outdoor excitement.\n\n\n\nRemember to bring water and sunscreen to play safely and enjoy longer! Let?s make the most of summer together!
X-ALT-DESC;FMTTYPE=text/html:Join in every Tuesday and Friday in July at Veterans park for some free park fun! No registration needed - just come ready to start your day with outdoor excitement.<br />\n<br />\nRemember to bring water and sunscreen to play safely and enjoy longer! Let?s make the most of summer together!&nbsp\;
LOCATION:Veterans Park Macomb\, Illinois
UID:e.2125.15209
SEQUENCE:3
DTSTAMP:20260423T010331Z
URL:https://business.macombareachamber.com/events/details/park-play-07-23-2024-15209
END:VEVENT

END:VCALENDAR
