BEGIN:VCALENDAR
VERSION:2.0
PRODID:-//ChamberMaster//Event Calendar 2.0//EN
METHOD:PUBLISH
X-PUBLISHED-TTL:P3D
REFRESH-INTERVAL:P3D
CALSCALE:GREGORIAN
BEGIN:VEVENT
DTSTART:20220701T230000Z
DTEND:20220702T020000Z
X-MICROSOFT-CDO-ALLDAYEVENT:FALSE
SUMMARY:Park N' Cruise
DESCRIPTION:Park N' Cruise \n\nMusic by Eternity Road
X-ALT-DESC;FMTTYPE=text/html:&nbsp\;Park N&#39\; Cruise&nbsp\;<br />\nMusic by Eternity Road
LOCATION:Chandler Park
UID:e.2125.8006
SEQUENCE:3
DTSTAMP:20260422T133855Z
URL:https://business.macombareachamber.com/events/details/park-n-cruise-8006
END:VEVENT

END:VCALENDAR
