BEGIN:VCALENDAR
VERSION:2.0
PRODID:-//ChamberMaster//Event Calendar 2.0//EN
METHOD:PUBLISH
X-PUBLISHED-TTL:P3D
REFRESH-INTERVAL:P3D
CALSCALE:GREGORIAN
BEGIN:VEVENT
DTSTART:20240705T220000Z
DTEND:20240706T010000Z
X-MICROSOFT-CDO-ALLDAYEVENT:FALSE
SUMMARY:Park N' Cruise
DESCRIPTION:Get ready to cruise on over to Downtown Macomb this summer for the 21st annual Park N' Cruise!    Join us from 5pm-8pm as we enjoy fun evenings full of classic cars and live music in Chandler Park!
X-ALT-DESC;FMTTYPE=text/html:&nbsp\;Get ready to cruise on over to Downtown Macomb this summer for the 21st annual Park N&#39\; Cruise! &#128663\;&#128168\; Join us from 5pm-8pm as we enjoy fun evenings full of classic cars and live music in Chandler Park!
LOCATION:Downtown Macomb- Chandler Park
UID:e.2125.14843
SEQUENCE:3
DTSTAMP:20260423T010110Z
URL:https://business.macombareachamber.com/events/details/park-n-cruise-14843
END:VEVENT

END:VCALENDAR
