BEGIN:VCALENDAR
VERSION:2.0
PRODID:-//ChamberMaster//Event Calendar 2.0//EN
METHOD:PUBLISH
X-PUBLISHED-TTL:P3D
REFRESH-INTERVAL:P3D
CALSCALE:GREGORIAN
BEGIN:VEVENT
DTSTART:20230805T230000Z
DTEND:20230806T020000Z
X-MICROSOFT-CDO-ALLDAYEVENT:FALSE
SUMMARY:Park N' Cruise
DESCRIPTION:Live Music by Entertainment: The King Graffiti Band. Classic Cars. 50/50 Raffle.
X-ALT-DESC;FMTTYPE=text/html:Live Music by Entertainment: The King Graffiti Band. Classic Cars. 50/50 Raffle.&nbsp\;
LOCATION:Downtown Macomb- Chandler Park
UID:e.2125.12687
SEQUENCE:3
DTSTAMP:20260423T162915Z
URL:https://business.macombareachamber.com/events/details/park-n-cruise-12687
END:VEVENT

END:VCALENDAR
