BEGIN:VCALENDAR
VERSION:2.0
PRODID:-//ChamberMaster//Event Calendar 2.0//EN
METHOD:PUBLISH
X-PUBLISHED-TTL:P3D
REFRESH-INTERVAL:P3D
CALSCALE:GREGORIAN
BEGIN:VEVENT
DTSTART:20230612T223000Z
DTEND:20230613T000000Z
X-MICROSOFT-CDO-ALLDAYEVENT:FALSE
SUMMARY:Parent Cafe Meeting
DESCRIPTION:Join us at the Parent Cafe. A Parent Cafe is a group of parents meeting to learn from each other\, discuss parenting\, and gain knowledge from a parent educator. Meet other parents\, get your questions answered\, discuss important information.
X-ALT-DESC;FMTTYPE=text/html:Join us at the Parent Cafe. A Parent Cafe is a group of parents meeting to learn from each other\, discuss parenting\, and gain knowledge from a parent educator. Meet other parents\, get your questions answered\, discuss important information.&nbsp\;
LOCATION:339 South Johnson Street\, Macomb
UID:e.2125.13527
SEQUENCE:3
DTSTAMP:20260423T192414Z
URL:https://business.macombareachamber.com/events/details/parent-cafe-meeting-13527
END:VEVENT

END:VCALENDAR
