BEGIN:VCALENDAR
VERSION:2.0
PRODID:-//ChamberMaster//Event Calendar 2.0//EN
METHOD:PUBLISH
X-PUBLISHED-TTL:P3D
REFRESH-INTERVAL:P3D
CALSCALE:GREGORIAN
BEGIN:VEVENT
DTSTART:20230417T223000Z
DTEND:20230418T000000Z
X-MICROSOFT-CDO-ALLDAYEVENT:FALSE
SUMMARY:Parent Cafe Meeting
DESCRIPTION:Early Beginnings and The LEAP Program are teaming up to host a Parent Caf  .
X-ALT-DESC;FMTTYPE=text/html:Early Beginnings and The LEAP Program are teaming up to host a Parent Caf&eacute\; .&nbsp\;
LOCATION:339 South Johnson Street\, Macomb
UID:e.2125.12755
SEQUENCE:3
DTSTAMP:20260423T221632Z
URL:https://business.macombareachamber.com/events/details/parent-cafe-meeting-12755
END:VEVENT

END:VCALENDAR
