BEGIN:VCALENDAR
VERSION:2.0
PRODID:-//ChamberMaster//Event Calendar 2.0//EN
METHOD:PUBLISH
X-PUBLISHED-TTL:P3D
REFRESH-INTERVAL:P3D
CALSCALE:GREGORIAN
BEGIN:VEVENT
DTSTART;VALUE=DATE:20230402
DTEND;VALUE=DATE:20230403
TRANSP:TRANSPARENT
X-MICROSOFT-CDO-ALLDAYEVENT:TRUE
SUMMARY:Palm Sunday Service
DESCRIPTION:Palm Sunday 10:00 AM Worship Service (Communion) followed by brunch.
X-ALT-DESC;FMTTYPE=text/html:Palm Sunday 10:00 AM Worship Service (Communion) followed by brunch.
LOCATION:Immanuel Lutheran Church\, 906 E. Grant St.
UID:e.2125.13042
SEQUENCE:3
DTSTAMP:20260423T221437Z
URL:https://business.macombareachamber.com/events/details/palm-sunday-service-13042
END:VEVENT

END:VCALENDAR
