BEGIN:VCALENDAR
VERSION:2.0
PRODID:-//ChamberMaster//Event Calendar 2.0//EN
METHOD:PUBLISH
X-PUBLISHED-TTL:P3D
REFRESH-INTERVAL:P3D
CALSCALE:GREGORIAN
BEGIN:VEVENT
DTSTART:20240929T170000Z
DTEND:20240929T220000Z
X-MICROSOFT-CDO-ALLDAYEVENT:FALSE
SUMMARY:Painting with Goats
DESCRIPTION:Join us for the return of Mimi and Louis at The Crafty Coop     \n\nPainting with Goats is a popular event so get your reservation set up at your earliest convenience!\n\nGoats will be in studio from 12-4 PM\, the studio closes at 5 PM.\n\nExpect to spend 1-2 hours with us for your painting experience   \n\nHundreds of options of pottery to choose from\, over 50 paint color choices  \n\nYour pottery is fired and ready for pickup in about a week    \n\nCall the studio during business hours or message the studio on Facebook with any questions\, 309-331-0965
X-ALT-DESC;FMTTYPE=text/html:Join us for the return of Mimi and Louis at The Crafty Coop &#128016\;&#10084\;&#65039\;&#128016\;<br />\nPainting with Goats is a popular event so get your reservation set up at your earliest convenience!<br />\nGoats will be in studio from 12-4 PM\, the studio closes at 5 PM.<br />\nExpect to spend 1-2 hours with us for your painting experience &#127912\;&#128396\;<br />\nHundreds of options of pottery to choose from\, over 50 paint color choices &#127752\;<br />\nYour pottery is fired and ready for pickup in about a week &#128293\;&#128293\;&#128293\;<br />\nCall the studio during business hours or message the studio on Facebook with any questions\, 309-331-0965 &#128222\;
LOCATION:The Crafty Coop - 206 N. Lafayette\, Macomb
UID:e.2125.15979
SEQUENCE:3
DTSTAMP:20260422T075427Z
URL:https://business.macombareachamber.com/events/details/painting-with-goats-15979
END:VEVENT

END:VCALENDAR
