BEGIN:VCALENDAR
VERSION:2.0
PRODID:-//ChamberMaster//Event Calendar 2.0//EN
METHOD:PUBLISH
X-PUBLISHED-TTL:P3D
REFRESH-INTERVAL:P3D
CALSCALE:GREGORIAN
BEGIN:VEVENT
DTSTART:20240406T150000Z
DTEND:20240406T230000Z
X-MICROSOFT-CDO-ALLDAYEVENT:FALSE
SUMMARY:Paint with Kittens Party!
DESCRIPTION:Paint with Kittens Party! Let your creative side flow with these cuties. Raise funds for the McDonough County Animal Shelter at The Crafty Coop! Reservations available. Walk-ins welcome as table space is available. More info is available at https://thecraftycoopmacomb.com/
X-ALT-DESC;FMTTYPE=text/html:<font color="#050505" face="Segoe UI Historic\, Segoe UI\, Helvetica\, Arial\, sans-serif"><span style="font-size: 15px\; background-color: rgb(255\, 255\, 255)\;">Paint with Kittens Party! Let your creative side flow with these cuties. Raise funds for the McDonough County Animal Shelter at The Crafty Coop! Reservations available. Walk-ins welcome as table space is available. More info is available at https://thecraftycoopmacomb.com/</span></font><br />\n&nbsp\;
LOCATION:The Crafty Coop - 206 N. Lafayette\, Macomb
UID:e.2125.14585
SEQUENCE:3
DTSTAMP:20260425T101739Z
URL:https://business.macombareachamber.com/events/details/paint-with-kittens-party-14585
END:VEVENT

END:VCALENDAR
