BEGIN:VCALENDAR
VERSION:2.0
PRODID:-//ChamberMaster//Event Calendar 2.0//EN
METHOD:PUBLISH
X-PUBLISHED-TTL:P3D
REFRESH-INTERVAL:P3D
CALSCALE:GREGORIAN
BEGIN:VEVENT
DTSTART:20230721T003000Z
DTEND:20230721T023000Z
X-MICROSOFT-CDO-ALLDAYEVENT:FALSE
SUMMARY:Our Beating Hearts Vocal Ensemble
DESCRIPTION:SAVE THE DATE for the premiere performance of a new\, professional vocal ensemble featuring four WIU faculty and staff\, three WIU Choral Music Education students as professional choral interns\, and one WIU alum. FREE ADMISSION\, JULY 20 at 7:30PM in Macomb and again JULY 21 in downtown Chicago at 7:30PM.
X-ALT-DESC;FMTTYPE=text/html:SAVE THE DATE for the premiere performance of a new\, professional vocal ensemble featuring four WIU faculty and staff\, three WIU Choral Music Education students as professional choral interns\, and one WIU alum. FREE ADMISSION\, JULY 20 at 7:30PM in Macomb and again JULY 21 in downtown Chicago at 7:30PM.
LOCATION:Western Illinois University - Macomb Campus COFAC Recital Hall
UID:e.2125.13533
SEQUENCE:3
DTSTAMP:20260423T174641Z
URL:https://business.macombareachamber.com/events/details/our-beating-hearts-vocal-ensemble-13533
END:VEVENT

END:VCALENDAR
