BEGIN:VCALENDAR
VERSION:2.0
PRODID:-//ChamberMaster//Event Calendar 2.0//EN
METHOD:PUBLISH
X-PUBLISHED-TTL:P3D
REFRESH-INTERVAL:P3D
CALSCALE:GREGORIAN
BEGIN:VEVENT
DTSTART:20220916T210000Z
DTEND:20220917T000000Z
X-MICROSOFT-CDO-ALLDAYEVENT:FALSE
SUMMARY:Oktoberfest Celebration
DESCRIPTION:Hy-Vee Oktoberfest Celebration features beer\, food\, music\, games.
X-ALT-DESC;FMTTYPE=text/html:Hy-Vee Oktoberfest Celebration features beer\, food\, music\, games.&nbsp\;
LOCATION:Hy-Vee - 1600 E. Jackson Street\, Macomb
UID:e.2125.10265
SEQUENCE:3
DTSTAMP:20260423T101148Z
URL:https://business.macombareachamber.com/events/details/oktoberfest-celebration-10265
END:VEVENT

END:VCALENDAR
