BEGIN:VCALENDAR
VERSION:2.0
PRODID:-//ChamberMaster//Event Calendar 2.0//EN
METHOD:PUBLISH
X-PUBLISHED-TTL:P3D
REFRESH-INTERVAL:P3D
CALSCALE:GREGORIAN
BEGIN:VEVENT
DTSTART:20231018T213000Z
DTEND:20231018T230000Z
X-MICROSOFT-CDO-ALLDAYEVENT:FALSE
SUMMARY:October Business After Hours
DESCRIPTION:A free networking event for Chamber members and potential new members as well.
X-ALT-DESC;FMTTYPE=text/html:A free networking event for Chamber members and potential new members as well.&nbsp\;
LOCATION:Bailey House - 100 S. Campbell St.\, Macomb
UID:e.2125.12327
SEQUENCE:3
DTSTAMP:20260422T121239Z
URL:https://business.macombareachamber.com/events/details/october-business-after-hours-12327
END:VEVENT

END:VCALENDAR
