BEGIN:VCALENDAR
VERSION:2.0
PRODID:-//ChamberMaster//Event Calendar 2.0//EN
METHOD:PUBLISH
X-PUBLISHED-TTL:P3D
REFRESH-INTERVAL:P3D
CALSCALE:GREGORIAN
BEGIN:VEVENT
DTSTART:20231029T210000Z
DTEND:20231029T223000Z
X-MICROSOFT-CDO-ALLDAYEVENT:FALSE
SUMMARY:NTN-Bower Trunk or Treat
DESCRIPTION:Trunk or Treat open to the public from 4:00pm to 5:30pm on Sunday\, October 29th\, 2023.
X-ALT-DESC;FMTTYPE=text/html:Trunk or Treat open to the public from 4:00pm to 5:30pm on Sunday\, October 29th\, 2023.
LOCATION:NTN-Bower 711 N Bower Road
UID:e.2125.14091
SEQUENCE:3
DTSTAMP:20260422T122607Z
URL:https://business.macombareachamber.com/events/details/ntn-bower-trunk-or-treat-14091
END:VEVENT

END:VCALENDAR
